BEGIN:VCALENDAR
VERSION:2.0
PRODID:icalendar-ruby
CALSCALE:GREGORIAN
METHOD:PUBLISH
BEGIN:VEVENT
DTSTAMP:20260424T173510Z
UID:115-1240350@ccpahrump.com
DTSTART:20260627T170000Z
DTEND:20260627T180000Z
CLASS:PUBLIC
CREATED:20260423T110934
DESCRIPTION:Ladies\, we're inviting you to join us for a special time of en
 couragement and connection happening from 10:00 AM to 11:30 AM in the Chur
 ch Café.\nCome enjoy light refreshments\, worship\, and a devotional as w
 e gather to grow in faith and friendship. Whether you're new or a regular\
 , all women are welcome—we’d love to see you there!
LAST-MODIFIED:20260423T110934
LOCATION:Church Cafe Area 
SUMMARY:Women's Fellowship & Devotional
URL;VALUE=URI:https://www.calvarychapelpahrump.org/events/womens-fellowship
 -devotional/2026-06-27
ATTACH;FILENAME=Winter-Slides-2026.png;FMTTYPE=image/png:https://dq5pwpg1q8
 ru0.cloudfront.net/2026/04/01/20/22/04/ba7ad463-ec00-4fb2-8c77-ac8a97f14f5
 e/Winter-Slides-2026.png
END:VEVENT
END:VCALENDAR
