BEGIN:VCALENDAR
VERSION:2.0
PRODID:icalendar-ruby
CALSCALE:GREGORIAN
METHOD:PUBLISH
BEGIN:VEVENT
DTSTAMP:20260424T160528Z
UID:15-1240338@ccpahrump.com
DTSTART:20260429T010000Z
DTEND:20260429T033000Z
CLASS:PUBLIC
CREATED:20260423T105602
DESCRIPTION:
LAST-MODIFIED:20260423T105602
LOCATION:1451 Gee St Pahrump\, NV 89060
SUMMARY:Stacey Latislaw Women’s Life Group
URL;VALUE=URI:https://www.calvarychapelpahrump.org/events/stacey-latislaw-w
 omen-s-life-group/2026-04-28
ATTACH;FILENAME=the-gospel-of.jpg;FMTTYPE=image/jpeg:https://dq5pwpg1q8ru0.
 cloudfront.net/2025/04/01/17/52/17/b9aae60b-c1e8-4ca9-8a65-dc7736dd509c/th
 e-gospel-of.jpg
END:VEVENT
END:VCALENDAR
