BEGIN:VCALENDAR
VERSION:2.0
PRODID:icalendar-ruby
CALSCALE:GREGORIAN
METHOD:PUBLISH
BEGIN:VEVENT
DTSTAMP:20260424T180319Z
UID:123-1232448@ccpahrump.com
DTSTART:20260507T140000Z
DTEND:20260507T220000Z
CLASS:PUBLIC
CREATED:20260421T155705
DESCRIPTION:
LAST-MODIFIED:20260421T155705
LOCATION:
SUMMARY:National Prayer Day
URL;VALUE=URI:https://www.calvarychapelpahrump.org/events/national-prayer-d
 ay/2026-05-07
ATTACH;FILENAME=National-Day-of-Prayer-2026.png;FMTTYPE=image/png:https://d
 q5pwpg1q8ru0.cloudfront.net/2026/04/21/22/57/04/0fb26df5-77fa-4a8d-af9f-75
 3013131316/National-Day-of-Prayer-2026.png
END:VEVENT
END:VCALENDAR
