BEGIN:VCALENDAR
VERSION:2.0
PRODID:icalendar-ruby
CALSCALE:GREGORIAN
METHOD:PUBLISH
BEGIN:VEVENT
DTSTAMP:20260425T124302Z
UID:90-1240412@ccpahrump.com
DTSTART:20260626T000000Z
DTEND:20260626T013000Z
CLASS:PUBLIC
CREATED:20260423T130528
DESCRIPTION:
LAST-MODIFIED:20260423T130528
LOCATION:2381 Washoe Ave Pahrump\, NV 89048
SUMMARY:Jim McDonald and Mike Doeller Life Group
URL;VALUE=URI:https://www.calvarychapelpahrump.org/events/jim-mcdonald-and-
 mike-doeller-life-group/2026-06-25
END:VEVENT
END:VCALENDAR
