BEGIN:VCALENDAR
VERSION:2.0
PRODID:icalendar-ruby
CALSCALE:GREGORIAN
METHOD:PUBLISH
BEGIN:VEVENT
DTSTAMP:20260424T192817Z
UID:109-1240358@ccpahrump.com
DTSTART:20260627T140000Z
DTEND:20260627T150000Z
CLASS:PUBLIC
CREATED:20260423T110951
DESCRIPTION:
LAST-MODIFIED:20260423T110951
LOCATION:
SUMMARY:Battleborn Men's Breakfast
URL;VALUE=URI:https://www.calvarychapelpahrump.org/events/battleborn-mens-b
 reakfast/2026-06-27
ATTACH;FILENAME=FallWinter-Slides-2025-13.png;FMTTYPE=image/png:https://dq5
 pwpg1q8ru0.cloudfront.net/2026/01/06/21/56/48/b1f543f2-09ca-4e65-a981-d010
 1749b64d/FallWinter-Slides-2025-13.png
ATTACH;FILENAME=2474942828533570305.jpeg;FMTTYPE=image/jpeg:https://dq5pwpg
 1q8ru0.cloudfront.net/2026/02/11/19/57/10/d15f52fa-9ca6-4fc8-ac82-3e484911
 cd26/2474942828533570305.jpeg
ATTACH;FILENAME=tempImageB5RD53.jpg;FMTTYPE=image/jpeg:https://dq5pwpg1q8ru
 0.cloudfront.net/2026/02/11/19/57/10/32213c63-7f9b-40cd-9358-bb1cf9d526e1/
 tempImageB5RD53.jpg
END:VEVENT
END:VCALENDAR
