BEGIN:VCALENDAR
VERSION:2.0
PRODID:icalendar-ruby
CALSCALE:GREGORIAN
METHOD:PUBLISH
BEGIN:VEVENT
DTSTAMP:20260421T133807Z
UID:69-1229211@ccpahrump.com
DTSTART:20261101T193000Z
DTEND:20261101T203000Z
CLASS:PUBLIC
CREATED:20260421T043818
DESCRIPTION:3rd Service
LAST-MODIFIED:20260421T043818
LOCATION:
SUMMARY:3rd Service
URL;VALUE=URI:https://www.calvarychapelpahrump.org/events/3rd-service/2026-
 11-01
END:VEVENT
END:VCALENDAR
