BEGIN:VCALENDAR
VERSION:2.0
PRODID:icalendar-ruby
CALSCALE:GREGORIAN
METHOD:PUBLISH
BEGIN:VEVENT
DTSTAMP:20260421T120846Z
UID:69-1229210@ccpahrump.com
DTSTART:20261025T183000Z
DTEND:20261025T193000Z
CLASS:PUBLIC
CREATED:20260421T043818
DESCRIPTION:3rd Service
LAST-MODIFIED:20260421T043818
LOCATION:
SUMMARY:3rd Service
URL;VALUE=URI:https://www.calvarychapelpahrump.org/events/3rd-service/2026-
 10-25
END:VEVENT
END:VCALENDAR
