BEGIN:VCALENDAR
VERSION:2.0
PRODID:icalendar-ruby
CALSCALE:GREGORIAN
METHOD:PUBLISH
BEGIN:VEVENT
DTSTAMP:20260421T085846Z
UID:69-1228430@ccpahrump.com
DTSTART:20261011T183000Z
DTEND:20261011T193000Z
CLASS:PUBLIC
CREATED:20260420T173153
DESCRIPTION:3rd Service
LAST-MODIFIED:20260420T173153
LOCATION:
SUMMARY:3rd Service
URL;VALUE=URI:https://www.calvarychapelpahrump.org/events/3rd-service/2026-
 10-11
END:VEVENT
END:VCALENDAR
